BEGIN:VCALENDAR
PRODID:-//Google Inc//Google Calendar 70.9054//EN
VERSION:2.0
CALSCALE:GREGORIAN
METHOD:PUBLISH
X-WR-CALNAME:Ministries & Groups
X-WR-TIMEZONE:Australia/Sydney
X-WR-CALDESC:Ministries & Groups of the parish of St Agathas
BEGIN:VTIMEZONE
TZID:Australia/Hobart
X-LIC-LOCATION:Australia/Hobart
BEGIN:DAYLIGHT
TZOFFSETFROM:+1000
TZOFFSETTO:+1100
TZNAME:AEDT
DTSTART:19701004T020000
RRULE:FREQ=YEARLY;BYMONTH=10;BYDAY=1SU
END:DAYLIGHT
BEGIN:STANDARD
TZOFFSETFROM:+1100
TZOFFSETTO:+1000
TZNAME:AEST
DTSTART:19700405T030000
RRULE:FREQ=YEARLY;BYMONTH=4;BYDAY=1SU
END:STANDARD
END:VTIMEZONE
BEGIN:VEVENT
DTSTART:20170310T080000Z
DTEND:20170310T100000Z
DTSTAMP:20210225T143527Z
UID:ntlo3fjbi19ia0etrcq9uv190k@google.com
CREATED:20170309T214328Z
DESCRIPTION:
LAST-MODIFIED:20170309T214328Z
LOCATION:Parish Hall
SEQUENCE:0
STATUS:CONFIRMED
SUMMARY:Invigorate Youth
TRANSP:OPAQUE
END:VEVENT
BEGIN:VEVENT
DTSTART:20170312T040000Z
DTEND:20170312T060000Z
DTSTAMP:20210225T143527Z
UID:k0lef80sq77567uvaa11mv9g00@google.com
CREATED:20170309T214250Z
DESCRIPTION:
LAST-MODIFIED:20170309T214250Z
LOCATION:Parish Hall
SEQUENCE:0
STATUS:CONFIRMED
SUMMARY:Jesus Youth
TRANSP:OPAQUE
END:VEVENT
BEGIN:VEVENT
DTSTART:20170312T083000Z
DTEND:20170312T093000Z
DTSTAMP:20210225T143527Z
UID:lhhj3smd7ueusvhfsr0i4u9be0@google.com
CREATED:20170309T214207Z
DESCRIPTION:
LAST-MODIFIED:20170309T214207Z
LOCATION:Parish Hall
SEQUENCE:0
STATUS:CONFIRMED
SUMMARY:Agape Bible Study
TRANSP:OPAQUE
END:VEVENT
BEGIN:VEVENT
DTSTART:20151127T083000Z
DTEND:20151127T093000Z
DTSTAMP:20210225T143527Z
UID:pau3q0oaqdfcd6jvs1ia8abh38@google.com
CREATED:20150716T055511Z
DESCRIPTION:
LAST-MODIFIED:20150716T055511Z
LOCATION:55 MacKillop Way\, Clyde North (St Peters College)
SEQUENCE:0
STATUS:CONFIRMED
SUMMARY:St Peters Family Prayer Meeting
TRANSP:OPAQUE
END:VEVENT
BEGIN:VEVENT
DTSTART:20151030T083000Z
DTEND:20151030T093000Z
DTSTAMP:20210225T143527Z
UID:dfgm1s9arb056uvcf8d34sbml0@google.com
CREATED:20150716T055428Z
DESCRIPTION:
LAST-MODIFIED:20150716T055428Z
LOCATION:55 MacKillop Way\, Clyde North (St Peters College)
SEQUENCE:0
STATUS:CONFIRMED
SUMMARY:St Peters Family Prayer Meeting
TRANSP:OPAQUE
END:VEVENT
BEGIN:VEVENT
DTSTART;VALUE=DATE:20150925
DTEND;VALUE=DATE:20150926
DTSTAMP:20210225T143527Z
UID:5ai7924aauc1l8ocbh079uhi70@google.com
CREATED:20150716T055055Z
DESCRIPTION:
LAST-MODIFIED:20150716T055055Z
LOCATION:55 MacKillop Way\, Clyde North (St Peters College)
SEQUENCE:0
STATUS:CONFIRMED
SUMMARY:St Peter's Family Prayer Meeting
TRANSP:TRANSPARENT
END:VEVENT
BEGIN:VEVENT
DTSTART;VALUE=DATE:20150828
DTEND;VALUE=DATE:20150829
DTSTAMP:20210225T143527Z
UID:mp72u94ds2ph1sikt4uoj9e5vs@google.com
CREATED:20150716T054521Z
DESCRIPTION:
LAST-MODIFIED:20150716T054952Z
LOCATION:55 MacKillop Way\, Clyde North (St Peters College)
SEQUENCE:0
STATUS:CONFIRMED
SUMMARY:St Peter's Family Prayer Meeting
TRANSP:TRANSPARENT
END:VEVENT
BEGIN:VEVENT
DTSTART:20150731T093000Z
DTEND:20150731T103000Z
DTSTAMP:20210225T143527Z
UID:j95jojlh0b3hl1bc963p92o94o@google.com
CREATED:20150716T054430Z
DESCRIPTION:
LAST-MODIFIED:20150716T054847Z
LOCATION:55 MacKillop Way\, Clyde North (St Peters College)
SEQUENCE:0
STATUS:CONFIRMED
SUMMARY:St Peter's Family Prayer Meeting
TRANSP:OPAQUE
END:VEVENT
BEGIN:VEVENT
DTSTART:20151206T223000Z
DTEND:20151207T000000Z
DTSTAMP:20210225T143527Z
UID:983piqt9r4nimu5tvuigeu1v3g@google.com
CREATED:20150716T052209Z
DESCRIPTION:
LAST-MODIFIED:20150716T052209Z
LOCATION:Parish Hall / Church Meeting Room
SEQUENCE:0
STATUS:CONFIRMED
SUMMARY:Mother's Cells of Evangelisation
TRANSP:OPAQUE
END:VEVENT
BEGIN:VEVENT
DTSTART:20151122T223000Z
DTEND:20151123T000000Z
DTSTAMP:20210225T143527Z
UID:3bkhkhoblh3el78l9i268a1v9k@google.com
CREATED:20150716T052132Z
DESCRIPTION:
LAST-MODIFIED:20150716T052132Z
LOCATION:Parish Hall / Church Meeting Room
SEQUENCE:0
STATUS:CONFIRMED
SUMMARY:Mother's Cells of Evangelisation
TRANSP:OPAQUE
END:VEVENT
BEGIN:VEVENT
DTSTART:20151108T223000Z
DTEND:20151109T000000Z
DTSTAMP:20210225T143527Z
UID:2ve8ug2ta7r57a5400ijv8201s@google.com
CREATED:20150716T052104Z
DESCRIPTION:
LAST-MODIFIED:20150716T052104Z
LOCATION:Parish Hall / Church Meeting Room
SEQUENCE:0
STATUS:CONFIRMED
SUMMARY:Mother's Cells of Evangelisation
TRANSP:OPAQUE
END:VEVENT
BEGIN:VEVENT
DTSTART:20151025T223000Z
DTEND:20151026T000000Z
DTSTAMP:20210225T143527Z
UID:891kj9arrimka3orid5t2qq3oo@google.com
CREATED:20150716T052033Z
DESCRIPTION:
LAST-MODIFIED:20150716T052033Z
LOCATION:Parish Hall / Church Meeting Room
SEQUENCE:0
STATUS:CONFIRMED
SUMMARY:Mother's Cells of Evangelisation
TRANSP:OPAQUE
END:VEVENT
BEGIN:VEVENT
DTSTART:20151011T223000Z
DTEND:20151012T000000Z
DTSTAMP:20210225T143527Z
UID:qfpr9o1b9ehbpb29f6cgqdks2c@google.com
CREATED:20150716T052001Z
DESCRIPTION:
LAST-MODIFIED:20150716T052001Z
LOCATION:Parish Hall / Church Meeting Room
SEQUENCE:0
STATUS:CONFIRMED
SUMMARY:Mother's Cells of Evangelisation
TRANSP:OPAQUE
END:VEVENT
BEGIN:VEVENT
DTSTART:20150913T233000Z
DTEND:20150914T010000Z
DTSTAMP:20210225T143527Z
UID:pfbos8sg3beq8igtv8b042pplk@google.com
CREATED:20150716T051904Z
DESCRIPTION:
LAST-MODIFIED:20150716T051904Z
LOCATION:Parish Hall / Church Meeting Room
SEQUENCE:0
STATUS:CONFIRMED
SUMMARY:Mother's Cells of Evangelisation
TRANSP:OPAQUE
END:VEVENT
BEGIN:VEVENT
DTSTART:20150830T233000Z
DTEND:20150831T010000Z
DTSTAMP:20210225T143527Z
UID:l4b01c7k6let32gvmtt2ievjss@google.com
CREATED:20150716T051830Z
DESCRIPTION:
LAST-MODIFIED:20150716T051830Z
LOCATION:Parish Hall / Church Meeting Room
SEQUENCE:0
STATUS:CONFIRMED
SUMMARY:Mother's Cells of Evangelisation
TRANSP:OPAQUE
END:VEVENT
BEGIN:VEVENT
DTSTART:20150816T233000Z
DTEND:20150817T010000Z
DTSTAMP:20210225T143527Z
UID:va6e6pj8rf62jbejmlq6oe98h0@google.com
CREATED:20150716T051745Z
DESCRIPTION:
LAST-MODIFIED:20150716T051745Z
LOCATION:Parish Hall / Church Meeting Room
SEQUENCE:0
STATUS:CONFIRMED
SUMMARY:Mother's Cells of Evangelisation
TRANSP:OPAQUE
END:VEVENT
BEGIN:VEVENT
DTSTART:20150802T233000Z
DTEND:20150803T010000Z
DTSTAMP:20210225T143527Z
UID:7a5c62tburf7l5nffmnksp8mas@google.com
CREATED:20150716T051658Z
DESCRIPTION:
LAST-MODIFIED:20150716T051658Z
LOCATION:Parish Hall / Church Meeting Room
SEQUENCE:0
STATUS:CONFIRMED
SUMMARY:Mother's Cells of Evangelisation
TRANSP:OPAQUE
END:VEVENT
BEGIN:VEVENT
DTSTART:20150719T233000Z
DTEND:20150720T010000Z
DTSTAMP:20210225T143527Z
UID:fej1jo1uhgnfvkegl4f3b82k7k@google.com
CREATED:20150716T051620Z
DESCRIPTION:
LAST-MODIFIED:20150716T051620Z
LOCATION:Parish Hall / Church Meeting Room
SEQUENCE:0
STATUS:CONFIRMED
SUMMARY:Mother's Cells of Evangelisation
TRANSP:OPAQUE
END:VEVENT
BEGIN:VEVENT
DTSTART:20151211T083000Z
DTEND:20151211T100000Z
DTSTAMP:20210225T143527Z
UID:a1iol75j7dbg3c19h4pjc48hhk@google.com
CREATED:20150716T051420Z
DESCRIPTION:
LAST-MODIFIED:20150716T051420Z
LOCATION:St Agathas Parish Hall
SEQUENCE:0
STATUS:CONFIRMED
SUMMARY:Invigorate Youth Group
TRANSP:OPAQUE
END:VEVENT
BEGIN:VEVENT
DTSTART:20151127T083000Z
DTEND:20151127T100000Z
DTSTAMP:20210225T143527Z
UID:9d65c3r2jlir4u0d17m98rvd8s@google.com
CREATED:20150716T051343Z
DESCRIPTION:
LAST-MODIFIED:20150716T051343Z
LOCATION:St Agathas Parish Hall
SEQUENCE:0
STATUS:CONFIRMED
SUMMARY:Invigorate Youth Group
TRANSP:OPAQUE
END:VEVENT
BEGIN:VEVENT
DTSTART:20151113T083000Z
DTEND:20151113T100000Z
DTSTAMP:20210225T143527Z
UID:f2gpn9ijgi34mrd2u71bacsk94@google.com
CREATED:20150716T051315Z
DESCRIPTION:
LAST-MODIFIED:20150716T051315Z
LOCATION:St Agathas Parish Hall
SEQUENCE:0
STATUS:CONFIRMED
SUMMARY:Invigorate Youth Group
TRANSP:OPAQUE
END:VEVENT
BEGIN:VEVENT
DTSTART:20151023T083000Z
DTEND:20151023T100000Z
DTSTAMP:20210225T143527Z
UID:ki0rgqm86me10j0mqh3dhj2164@google.com
CREATED:20150716T050206Z
DESCRIPTION:
LAST-MODIFIED:20150716T050206Z
LOCATION:St Agathas Parish Hall
SEQUENCE:0
STATUS:CONFIRMED
SUMMARY:Invigorate Youth Group
TRANSP:OPAQUE
END:VEVENT
BEGIN:VEVENT
DTSTART:20151009T083000Z
DTEND:20151009T100000Z
DTSTAMP:20210225T143527Z
UID:n1vebs84dia2u78a2v6qnoaick@google.com
CREATED:20150716T050133Z
DESCRIPTION:
LAST-MODIFIED:20150716T050133Z
LOCATION:St Agathas Parish Hall
SEQUENCE:0
STATUS:CONFIRMED
SUMMARY:Invigorate Youth Group
TRANSP:OPAQUE
END:VEVENT
BEGIN:VEVENT
DTSTART:20150925T093000Z
DTEND:20150925T110000Z
DTSTAMP:20210225T143527Z
UID:si06uipli3fpc9gjdtirvbr1bc@google.com
CREATED:20150716T050102Z
DESCRIPTION:
LAST-MODIFIED:20150716T050102Z
LOCATION:St Agathas Parish Hall
SEQUENCE:0
STATUS:CONFIRMED
SUMMARY:Invigorate Youth Group
TRANSP:OPAQUE
END:VEVENT
BEGIN:VEVENT
DTSTART:20150911T093000Z
DTEND:20150911T110000Z
DTSTAMP:20210225T143527Z
UID:f7g9fk2hjapedl23ftru45qrgc@google.com
CREATED:20150716T050033Z
DESCRIPTION:
LAST-MODIFIED:20150716T050033Z
LOCATION:St Agathas Parish Hall
SEQUENCE:0
STATUS:CONFIRMED
SUMMARY:Invigorate Youth Group
TRANSP:OPAQUE
END:VEVENT
BEGIN:VEVENT
DTSTART:20150828T093000Z
DTEND:20150828T110000Z
DTSTAMP:20210225T143527Z
UID:hu2mhb8brn1v85hdpunq697ec8@google.com
CREATED:20150716T045953Z
DESCRIPTION:
LAST-MODIFIED:20150716T045953Z
LOCATION:St Agathas Parish Hall
SEQUENCE:0
STATUS:CONFIRMED
SUMMARY:Invigorate Youth Group
TRANSP:OPAQUE
END:VEVENT
BEGIN:VEVENT
DTSTART:20151120T083000Z
DTEND:20151120T103000Z
DTSTAMP:20210225T143527Z
UID:42gpbg4p37et50jb46q0g4ivts@google.com
CREATED:20150716T045838Z
DESCRIPTION:
LAST-MODIFIED:20150716T045838Z
LOCATION:ref Parish Office for location
SEQUENCE:0
STATUS:CONFIRMED
SUMMARY:Family Rosary Prayer Meeting
TRANSP:OPAQUE
END:VEVENT
BEGIN:VEVENT
DTSTART:20151016T083000Z
DTEND:20151016T103000Z
DTSTAMP:20210225T143527Z
UID:dlsg7gntn6kv36evb011mqo20k@google.com
CREATED:20150716T045804Z
DESCRIPTION:
LAST-MODIFIED:20150716T045804Z
LOCATION:ref Parish Office for location
SEQUENCE:0
STATUS:CONFIRMED
SUMMARY:Family Rosary Prayer Meeting
TRANSP:OPAQUE
END:VEVENT
BEGIN:VEVENT
DTSTART:20150918T093000Z
DTEND:20150918T113000Z
DTSTAMP:20210225T143527Z
UID:dfsc24r6oasuo5gb44ibftte6o@google.com
CREATED:20150716T045727Z
DESCRIPTION:
LAST-MODIFIED:20150716T045727Z
LOCATION:ref Parish Office for location
SEQUENCE:0
STATUS:CONFIRMED
SUMMARY:Family Rosary Prayer Meeting
TRANSP:OPAQUE
END:VEVENT
BEGIN:VEVENT
DTSTART:20150821T093000Z
DTEND:20150821T113000Z
DTSTAMP:20210225T143527Z
UID:ps2fl6rr0cedluv8408mv71lq8@google.com
CREATED:20150716T045629Z
DESCRIPTION:
LAST-MODIFIED:20150716T045629Z
LOCATION:ref Parish Office for location
SEQUENCE:0
STATUS:CONFIRMED
SUMMARY:Family Rosary Prayer Meeting
TRANSP:OPAQUE
END:VEVENT
BEGIN:VEVENT
DTSTART:20151212T033000Z
DTEND:20151212T050000Z
DTSTAMP:20210225T143527Z
UID:5giuh19s7l5dhi1a008r1cv8qk@google.com
CREATED:20150716T044839Z
DESCRIPTION:
LAST-MODIFIED:20150716T044839Z
LOCATION:134 Sladen St\, Cranbourne VIC 3977\, Australia
SEQUENCE:0
STATUS:CONFIRMED
SUMMARY:Brigadiers of Lourdes
TRANSP:OPAQUE
END:VEVENT
BEGIN:VEVENT
DTSTART:20151114T033000Z
DTEND:20151114T050000Z
DTSTAMP:20210225T143527Z
UID:oai9unjdl3ie5eh2d959ps4428@google.com
CREATED:20150716T044810Z
DESCRIPTION:
LAST-MODIFIED:20150716T044810Z
LOCATION:134 Sladen St\, Cranbourne VIC 3977\, Australia
SEQUENCE:0
STATUS:CONFIRMED
SUMMARY:Brigadiers of Lourdes
TRANSP:OPAQUE
END:VEVENT
BEGIN:VEVENT
DTSTART:20151010T033000Z
DTEND:20151010T050000Z
DTSTAMP:20210225T143527Z
UID:8bp9jtu3l3cv60491i81gqhnc8@google.com
CREATED:20150716T044742Z
DESCRIPTION:
LAST-MODIFIED:20150716T044742Z
LOCATION:134 Sladen St\, Cranbourne VIC 3977\, Australia
SEQUENCE:0
STATUS:CONFIRMED
SUMMARY:Brigadiers of Lourdes
TRANSP:OPAQUE
END:VEVENT
BEGIN:VEVENT
DTSTART:20150912T043000Z
DTEND:20150912T060000Z
DTSTAMP:20210225T143527Z
UID:1c3iu032b7n3ahagqc55j8249o@google.com
CREATED:20150716T044713Z
DESCRIPTION:
LAST-MODIFIED:20150716T044713Z
LOCATION:134 Sladen St\, Cranbourne VIC 3977\, Australia
SEQUENCE:0
STATUS:CONFIRMED
SUMMARY:Brigadiers of Lourdes
TRANSP:OPAQUE
END:VEVENT
BEGIN:VEVENT
DTSTART:20150808T043000Z
DTEND:20150808T060000Z
DTSTAMP:20210225T143527Z
UID:vbno28pq0lafubnu3n396cq9s8@google.com
CREATED:20150716T044638Z
DESCRIPTION:
LAST-MODIFIED:20150716T044638Z
LOCATION:134 Sladen St\, Cranbourne VIC 3977\, Australia
SEQUENCE:0
STATUS:CONFIRMED
SUMMARY:Brigadiers of Lourdes
TRANSP:OPAQUE
END:VEVENT
BEGIN:VEVENT
DTSTART;TZID=Australia/Hobart:20150723T100000
DTEND;TZID=Australia/Hobart:20150723T113000
RRULE:FREQ=WEEKLY;UNTIL=20151209T230000Z;BYDAY=TH
DTSTAMP:20210225T143527Z
UID:n67uqbkbudh27drdfev28l2lt4@google.com
CREATED:20150716T044420Z
DESCRIPTION:
LAST-MODIFIED:20150716T044420Z
LOCATION:ref Parish Office for location
SEQUENCE:0
STATUS:CONFIRMED
SUMMARY:Parish Cells of Evangelisation
TRANSP:OPAQUE
END:VEVENT
BEGIN:VEVENT
DTSTART;TZID=Australia/Hobart:20150723T193000
DTEND;TZID=Australia/Hobart:20150723T210000
RRULE:FREQ=WEEKLY;UNTIL=20151210T083000Z;BYDAY=TH
DTSTAMP:20210225T143527Z
UID:60gv5nj5l8ar761119mur29lug@google.com
CREATED:20150716T044317Z
DESCRIPTION:
LAST-MODIFIED:20150716T044317Z
LOCATION:ref Parish Office for location
SEQUENCE:0
STATUS:CONFIRMED
SUMMARY:Parish Cells of Evangelisation
TRANSP:OPAQUE
END:VEVENT
BEGIN:VEVENT
DTSTART;TZID=Australia/Hobart:20150722T193000
DTEND;TZID=Australia/Hobart:20150722T210000
RRULE:FREQ=WEEKLY;UNTIL=20151209T083000Z;BYDAY=WE
DTSTAMP:20210225T143527Z
UID:abtc83dblg0duplafae1m68l40@google.com
CREATED:20150716T044222Z
DESCRIPTION:
LAST-MODIFIED:20150716T044222Z
LOCATION:ref Parish Office for location
SEQUENCE:0
STATUS:CONFIRMED
SUMMARY:Parish Cells of Evangelisation
TRANSP:OPAQUE
END:VEVENT
BEGIN:VEVENT
DTSTART:20151206T004500Z
DTEND:20151206T024500Z
DTSTAMP:20210225T143527Z
UID:j4dbddp86ufds4gvvbeknflvag@google.com
CREATED:20150716T043410Z
DESCRIPTION:
LAST-MODIFIED:20150716T043410Z
LOCATION:St Agathas Parish Hall
SEQUENCE:0
STATUS:CONFIRMED
SUMMARY:African Prayer Meeting
TRANSP:OPAQUE
END:VEVENT
BEGIN:VEVENT
DTSTART:20151101T004500Z
DTEND:20151101T024500Z
DTSTAMP:20210225T143527Z
UID:03jbo4dr17u554rce6c6nr7920@google.com
CREATED:20150716T043340Z
DESCRIPTION:
LAST-MODIFIED:20150716T043340Z
LOCATION:St Agathas Parish Hall
SEQUENCE:0
STATUS:CONFIRMED
SUMMARY:African Prayer Meeting
TRANSP:OPAQUE
END:VEVENT
BEGIN:VEVENT
DTSTART:20151004T004500Z
DTEND:20151004T024500Z
DTSTAMP:20210225T143527Z
UID:v9e9rbduufs2rusa3v8oqkinp8@google.com
CREATED:20150716T043254Z
DESCRIPTION:
LAST-MODIFIED:20150716T043254Z
LOCATION:St Agathas Parish Hall
SEQUENCE:0
STATUS:CONFIRMED
SUMMARY:African Prayer Meeting
TRANSP:OPAQUE
END:VEVENT
BEGIN:VEVENT
DTSTART:20150906T014500Z
DTEND:20150906T034500Z
DTSTAMP:20210225T143527Z
UID:bqapmbls3adv91id5hlsrgrg88@google.com
CREATED:20150716T043149Z
DESCRIPTION:
LAST-MODIFIED:20150716T043216Z
LOCATION:St Agathas Parish Hall
SEQUENCE:0
STATUS:CONFIRMED
SUMMARY:African Prayer Meeting
TRANSP:OPAQUE
END:VEVENT
BEGIN:VEVENT
DTSTART:20150802T014500Z
DTEND:20150802T034500Z
DTSTAMP:20210225T143527Z
UID:ukme9dahbgbng7h4n7f1jrpiog@google.com
CREATED:20150716T043101Z
DESCRIPTION:
LAST-MODIFIED:20150716T043101Z
LOCATION:St Agathas Parish Hall
SEQUENCE:0
STATUS:CONFIRMED
SUMMARY:African Prayer Meeting
TRANSP:OPAQUE
END:VEVENT
BEGIN:VEVENT
DTSTART;TZID=Australia/Hobart:20150724T193000
DTEND;TZID=Australia/Hobart:20150724T213000
RRULE:FREQ=WEEKLY;UNTIL=20151211T083000Z;BYDAY=FR
DTSTAMP:20210225T143527Z
UID:s2vlgfuvlah43ghfesgv6c4vr8@google.com
CREATED:20150716T042829Z
DESCRIPTION:
LAST-MODIFIED:20150716T042829Z
LOCATION:St Agathas Catholic Church
SEQUENCE:0
STATUS:CONFIRMED
SUMMARY:Charismatic Prayer Meeting
TRANSP:OPAQUE
END:VEVENT
BEGIN:VEVENT
DTSTART;TZID=Australia/Hobart:20150728T183000
DTEND;TZID=Australia/Hobart:20150728T203000
RRULE:FREQ=WEEKLY;UNTIL=20151215T073000Z;BYDAY=TU
DTSTAMP:20210225T143527Z
UID:52j05of0tdde0l1ab494ldv8vo@google.com
CREATED:20150716T042601Z
DESCRIPTION:
LAST-MODIFIED:20150716T042601Z
LOCATION:St Agatha's Catholic Church
SEQUENCE:0
STATUS:CONFIRMED
SUMMARY:Divine Mercy Prayer Meeting (Samoan)
TRANSP:OPAQUE
END:VEVENT
BEGIN:VEVENT
DTSTART;TZID=Australia/Hobart:20150720T131500
DTEND;TZID=Australia/Hobart:20150720T144500
RRULE:FREQ=WEEKLY;UNTIL=20151214T021500Z;BYDAY=MO
DTSTAMP:20210225T143527Z
UID:r2m5877v2k07qdfd3aftn8sju4@google.com
CREATED:20150716T042331Z
DESCRIPTION:
LAST-MODIFIED:20150716T042332Z
LOCATION:St Agathas Parish Hall
SEQUENCE:0
STATUS:CONFIRMED
SUMMARY:Charismatic Prayer Meeting
TRANSP:OPAQUE
END:VEVENT
END:VCALENDAR
